BEGIN:VCALENDAR
VERSION:2.0
PRODID:-//NADI Kampung Raja, Bukit Kepong - ECPv6.15.20//NONSGML v1.0//EN
CALSCALE:GREGORIAN
METHOD:PUBLISH
X-WR-CALNAME:NADI Kampung Raja, Bukit Kepong
X-ORIGINAL-URL:https://kgraja.nadi.my
X-WR-CALDESC:Events for NADI Kampung Raja, Bukit Kepong
REFRESH-INTERVAL;VALUE=DURATION:PT1H
X-Robots-Tag:noindex
X-PUBLISHED-TTL:PT1H
BEGIN:VTIMEZONE
TZID:UTC
BEGIN:STANDARD
TZOFFSETFROM:+0000
TZOFFSETTO:+0000
TZNAME:UTC
DTSTART:20230101T000000
END:STANDARD
END:VTIMEZONE
BEGIN:VEVENT
DTSTART;TZID=UTC:20240423T100000
DTEND;TZID=UTC:20240423T110000
DTSTAMP:20260426T085231
CREATED:20240331T224527Z
LAST-MODIFIED:20240331T224527Z
UID:5741-1713866400-1713870000@kgraja.nadi.my
SUMMARY:Kelas Soft Skills
DESCRIPTION:
URL:https://kgraja.nadi.my/event/kelas-soft-skills-9/
CATEGORIES:DEFAULT
END:VEVENT
BEGIN:VEVENT
DTSTART;TZID=UTC:20240423T100000
DTEND;TZID=UTC:20240423T110000
DTSTAMP:20260426T085231
CREATED:20240331T224527Z
LAST-MODIFIED:20240331T224527Z
UID:6593-1713866400-1713870000@kgraja.nadi.my
SUMMARY:Kelas Soft Skills
DESCRIPTION:
URL:https://kgraja.nadi.my/event/kelas-soft-skills-31/
CATEGORIES:DEFAULT
END:VEVENT
END:VCALENDAR